BEGIN:VCALENDAR
VERSION:2.0
PRODID:-//jEvents 2.0 for Joomla//EN
CALSCALE:GREGORIAN
METHOD:PUBLISH
BEGIN:VEVENT
UID:24bead8cac356ad6d2a85fb5da6c60eb
CATEGORIES:Veranstaltung
CREATED:20260108T215110
SUMMARY:CVJM Isenstedt-Frotheim sammelt Tannenbäume ein
LOCATION:CVJM-Haus Gemeindehausstraße 1 32339 Espelkamp
DESCRIPTION:In den Ortsteilen Isenstedt und Frotheim werden Mitarbeiter und Mitarbeiter
 innen des CVJM am kommenden Samstag, 17. Januar, die ausgedienten Weihnacht
 sbäume gegen eine freiwillige Spende einsammeln\n
X-ALT-DESC;FMTTYPE=text/html:<p>In den Ortsteilen Isenstedt und Frotheim werden Mitarbeiter und Mitarbei
 terinnen des CVJM am kommenden Samstag, 17. Januar, die ausgedienten Weihna
 chtsbäume gegen eine freiwillige Spende einsammeln</p>
DTSTAMP:20260421T115950Z
DTSTART:20260117T080000Z
SEQUENCE:0
TRANSP:OPAQUE
END:VEVENT
END:VCALENDAR