BEGIN:VCALENDAR
VERSION:2.0
PRODID:-//jEvents 2.0 for Joomla//EN
CALSCALE:GREGORIAN
METHOD:PUBLISH
BEGIN:VEVENT
UID:023026a057e247dd8be1c05ad7ebccf9
CATEGORIES:Veranstaltung
CREATED:20251106T212535
SUMMARY:Heimatverein Isenstedt Historischer Gesprächskreis
DESCRIPTION:<p class="MsoNoSpacing">Heimatverein Isenstedt Historischer Gesprächskreis 
 </p><p class="MsoNoSpacing">Montag,17. November 2025, 18:00 Uhr - 20:00 Uhr
  </p><p class="MsoNoSpacing">Kontakt <span id="cloak1cb7abb17be322f96f8d363
 e89e72e33">Diese E-Mail-Adresse ist vor Spambots geschützt! Zur Anzeige mus
 s JavaScript eingeschaltet sein!</span><script type='text/javascript'>
				
 document.getElementById('cloak1cb7abb17be322f96f8d363e89e72e33').innerHTML 
 = '';
				var prefix = 'ma' + 'il' + 'to';
				var path = 'hr' + 'ef' + '='
 ;
				var addy1cb7abb17be322f96f8d363e89e72e33 = 'info' + '@';
				addy1cb7
 abb17be322f96f8d363e89e72e33 = addy1cb7abb17be322f96f8d363e89e72e33 + 'heim
 atverein-isenstedt' + '.' + 'de';
				var addy_text1cb7abb17be322f96f8d363e
 89e72e33 = '<span style="font-family: 'Arial',sans-serif;">info' + '@' + 'h
 eimatverein-isenstedt' + '.' + 'de</span>';document.getElementById('cloak1c
 b7abb17be322f96f8d363e89e72e33').innerHTML += '<a ' + path + '\'' + prefix 
 + ':' + addy1cb7abb17be322f96f8d363e89e72e33 + '\'>'+addy_text1cb7abb17be32
 2f96f8d363e89e72e33+'<\/a>';
		</script> </p><p class="MsoNoSpacing">Der He
 imatverein Isenstedt lädt ein zum Historischen Gesprächskreis ein </p><p cl
 ass="MsoNoSpacing">Wann: Montag 17.11.2025 </p><p class="MsoNoSpacing">Wo: 
 Schule Isenstedt Bühneneingang Nordseite </p><p class="MsoNoSpacing">Dauer:
  18.00 Uhr bis 20:00 Uhr </p><p class="MsoNoSpacing">Anmeldungen bei: Andre
 as Brinkmann Tel. 01758893304 und : Reinhard Engelage Tel. 01719129690</p><
 p> </p>
DTSTAMP:20260424T043723Z
DTSTART:20251117T170000Z
SEQUENCE:0
TRANSP:OPAQUE
END:VEVENT
END:VCALENDAR