BEGIN:VCALENDAR
VERSION:2.0
PRODID:-//jEvents 2.0 for Joomla//EN
CALSCALE:GREGORIAN
METHOD:PUBLISH
BEGIN:VEVENT
UID:149fbd849a44b4f195fb88f6735f69f5
CATEGORIES:DEFAULT
CREATED:20251104T210544
SUMMARY:pielen – klönen – Geselligkeit 
LOCATION:Gemeindehaus Kirchstr. 33 32339 Espelkamp
DESCRIPTION:<p>Spielen – klönen – Geselligkeit Ein Angebot des SoVD Ortsverbanden Isens
 tedt</p><p><span style="font-family: 'Arial',sans-serif;">Damit nach dem En
 de der Sommerzeit keine Langeweile aufkommt, veranstaltet der Sozialverband
  Isenstedt ab Mitte Oktober bis Mitte März jeden zweiten Dienstag im Monat 
 von 15.00 Uhr bis 17.00 Uhr ein Spiel – und Klönnachmittag im Gemeindehaus 
 an der Kirche in Isenstedt. Mitglieder, sowie auch gerne Nichtmitglieder, d
 ie Interesse an Gesellschaftsspielen haben oder sich bei einer Tasse Kaffee
  in gemütlicher Runde unterhalten möchten, sind herzlich eingeladen Die kla
 ssischen Brett- und Kartenspiele sind vorhanden, es können aber auch eigene
  Spiele mitgebracht werden.</span></p><p> </p><p class="MsoNoSpacing"><span
  style="font-family: 'Arial',sans-serif;">Termine 14.10.2025, 11.11.2025, 0
 9.12.2025, 13.01.2026, 10.02.2026</span></p><p> </p><p class="MsoNoSpacing"
 ><span style="font-family: 'Arial',sans-serif;">Gerne auch Nachbarn, Freund
 e und Bekannte ansprechen, die evtl. Interesse haben. Wir hoffen darauf, mö
 glichst viele Teilnehmer begrüßen zu dürfen.</span></p><p> </p><p class="Ms
 oNoSpacing"><span style="font-family: 'Arial',sans-serif;"> </span></p><p> 
 </p><p class="MsoNoSpacing"><b><span style="font-size: 14.0pt; font-family:
  'Arial',sans-serif;">Der Vorstand </span></b></p><p> </p><p class="MsoNoSp
 acing"><b><span style="font-size: 14.0pt; font-family: 'Arial',sans-serif;"
 >Gemeindehaus Kirchstr. 33 32339 Espelkamp</span></b></p><p> </p>
DTSTAMP:20260424T000821Z
DTSTART:20251111T140000Z
SEQUENCE:0
TRANSP:OPAQUE
END:VEVENT
END:VCALENDAR