BEGIN:VCALENDAR
VERSION:2.0
PRODID:-//jEvents 2.0 for Joomla//EN
CALSCALE:GREGORIAN
METHOD:PUBLISH
BEGIN:VEVENT
UID:22ff9f3ffae180a4eb27ada0ae873e2a
CATEGORIES:Veranstaltung
CREATED:20251017T223802
SUMMARY:Man(n) – was für ein Leben!
DESCRIPTION:         Normal  0      21      false  false  false    DE  X-NONE  X-NONE  
                                                                            
                                                                            
                                                                            
                                                                            
                                                                            
                                                                            
                                                                            
                                                                            
                                                                            
                                                                            
                                                                        /* S
 tyle Definitions */ table.MsoNormalTable	{mso-style-name:"Normale Tabelle";
 	mso-tstyle-rowband-size:0;	mso-tstyle-colband-size:0;	mso-style-noshow:yes
 ;	mso-style-priority:99;	mso-style-parent:"";	mso-padding-alt:0cm 5.4pt 0cm
  5.4pt;	mso-para-margin-top:0cm;	mso-para-margin-right:0cm;	mso-para-margin
 -bottom:8.0pt;	mso-para-margin-left:0cm;	line-height:107%;	mso-pagination:w
 idow-orphan;	font-size:11.0pt;	font-family:"Calibri",sans-serif;	mso-ascii-
 font-family:Calibri;	mso-ascii-theme-font:minor-latin;	mso-hansi-font-famil
 y:Calibri;	mso-hansi-theme-font:minor-latin;	mso-fareast-language:EN-US;}\n
 Männerkreis lädt zum Gottesdienst\n \nDer Männerkreis des CVJM Isenstedt-\n
  \nFrotheim lädt zu einem besonderen Gottesdienst in die Christuskirche Ise
 nstedt ein.\n \nAm Sonntag, 19. Oktober, dem Tag der Männerarbeit in der EK
 D, beginnt der Gottesdienst um 10.30 Uhr. Der Männerkreis „MUS“ übernimmt d
 ie inhaltliche Vorbereitung.\n \nDas Thema lautet: „“\n \n– en Slogan, der 
 Spielraum zum Nach- und Mitdenken bietet. Die musikalische Leitung liegt in
  den Händen von Heinz-Hermann Grube, dem ehemaligen Kreiskantor. Im Anschlu
 ss an den Gottesdienst\n \nlädt der Männerkreis zum Frühschoppen ins Gemein
 dehaus\n \nein.\n \n \n \n
X-ALT-DESC;FMTTYPE=text/html:<p>         Normal  0      21      false  false  false    DE  X-NONE  X-NON
 E                                                                          
                                                                            
                                                                            
                                                                            
                                                                            
                                                                            
                                                                            
                                                                            
                                                                            
                                                                            
                                                                           /
 * Style Definitions */ table.MsoNormalTable	{mso-style-name:"Normale Tabell
 e";	mso-tstyle-rowband-size:0;	mso-tstyle-colband-size:0;	mso-style-noshow:
 yes;	mso-style-priority:99;	mso-style-parent:"";	mso-padding-alt:0cm 5.4pt 
 0cm 5.4pt;	mso-para-margin-top:0cm;	mso-para-margin-right:0cm;	mso-para-mar
 gin-bottom:8.0pt;	mso-para-margin-left:0cm;	line-height:107%;	mso-paginatio
 n:widow-orphan;	font-size:11.0pt;	font-family:"Calibri",sans-serif;	mso-asc
 ii-font-family:Calibri;	mso-ascii-theme-font:minor-latin;	mso-hansi-font-fa
 mily:Calibri;	mso-hansi-theme-font:minor-latin;	mso-fareast-language:EN-US;
 }</p><p class="MsoNoSpacing"><span style="font-size: 14.0pt; font-family: '
 Arial',sans-serif;">Männerkreis lädt zum Gottesdienst</span></p><p> </p><p 
 class="MsoNoSpacing"><span style="font-size: 14.0pt; font-family: 'Arial',s
 ans-serif;">Der Männerkreis des CVJM Isenstedt-</span></p><p> </p><p class=
 "MsoNoSpacing"><span style="font-size: 14.0pt; font-family: 'Arial',sans-se
 rif;">Frotheim lädt zu einem besonderen Gottesdienst in die Christuskirche 
 Isenstedt ein.</span></p><p> </p><p class="MsoNoSpacing"><span style="font-
 size: 14.0pt; font-family: 'Arial',sans-serif;">Am Sonntag, 19. Oktober, de
 m Tag der Männerarbeit in der EKD, beginnt der Gottesdienst um 10.30 Uhr. D
 er Männerkreis „MUS“ übernimmt die inhaltliche Vorbereitung.</span></p><p> 
 </p><p class="MsoNoSpacing"><span style="font-size: 14.0pt; font-family: 'A
 rial',sans-serif;">Das Thema lautet: „“</span></p><p> </p><p class="MsoNoSp
 acing"><span style="font-size: 14.0pt; font-family: 'Arial',sans-serif;">– 
 en Slogan, der Spielraum zum Nach- und Mitdenken bietet. Die musikalische L
 eitung liegt in den Händen von Heinz-Hermann Grube, dem ehemaligen Kreiskan
 tor. Im Anschluss an den Gottesdienst</span></p><p> </p><p class="MsoNoSpac
 ing"><span style="font-size: 14.0pt; font-family: 'Arial',sans-serif;">lädt
  der Männerkreis zum Frühschoppen ins Gemeindehaus</span></p><p> </p><p cla
 ss="MsoNoSpacing"><span style="font-size: 14.0pt; font-family: 'Arial',sans
 -serif;">ein.</span></p><p> </p><p class="MsoNoSpacing"><span style="font-s
 ize: 14.0pt; font-family: 'Arial',sans-serif;"> </span></p><p> </p>
DTSTAMP:20260424T043526Z
DTSTART:20251019T083000Z
DTEND:20251019T110000Z
SEQUENCE:0
TRANSP:OPAQUE
END:VEVENT
END:VCALENDAR