BEGIN:VCALENDAR
VERSION:2.0
PRODID:-//jEvents 2.0 for Joomla//EN
CALSCALE:GREGORIAN
METHOD:PUBLISH
BEGIN:VEVENT
UID:1a6e910052d8f64254d720d25210e99e
CATEGORIES:Veranstaltung
CREATED:20250928T214918
SUMMARY:Spielen – klönen – Geselligkeit
DESCRIPTION:Spielen – klönen – Geselligkeit\n Ein Angebot des SoVD Ortsverbanden Isenst
 edt Damit nach dem Ende der Sommerzeit keine Langeweile aufkommt, veranstal
 tet der Sozialverband Isenstedt ab Mitte Oktober bis Mitte März jeden zweit
 en Dienstag im Monat von 15.00 Uhr bis 17.00 Uhr ein Spiel – und Klönnachmi
 ttag im Gemeindehaus an der Kirche in Isenstedt. Mitglieder, sowie auch ger
 ne Nichtmitglieder, die Interesse an Gesellschaftsspielen haben oder sich b
 ei einer Tasse Kaffee in gemütlicher Runde unterhalten möchten, sind herzli
 ch eingeladen Die klassischen Brett- und Kartenspiele sind vorhanden, es kö
 nnen aber auch eigene Spiele mitgebracht werden. Termine 14.10.2025, 11.11.
 2025, 09.12.2025, 13.01.2026, 10.02.2026 Gerne auch Nachbarn, Freunde und B
 ekannte ansprechen, die evtl. Interesse haben. Wir hoffen darauf, möglichst
  viele Teilnehmer begrüßen zu dürfen. \nDer Vorstand\n
X-ALT-DESC;FMTTYPE=text/html:<p><strong>Spielen – klönen – Geselligkeit</strong></p><p><strong> Ein Ange
 bot des SoVD Ortsverbanden Isenstedt Damit nach dem Ende der Sommerzeit kei
 ne Langeweile aufkommt, veranstaltet der Sozialverband Isenstedt ab Mitte O
 ktober bis Mitte März jeden zweiten Dienstag im Monat von 15.00 Uhr bis 17.
 00 Uhr ein Spiel – und Klönnachmittag im Gemeindehaus an der Kirche in Isen
 stedt. Mitglieder, sowie auch gerne Nichtmitglieder, die Interesse an Gesel
 lschaftsspielen haben oder sich bei einer Tasse Kaffee in gemütlicher Runde
  unterhalten möchten, sind herzlich eingeladen Die klassischen Brett- und K
 artenspiele sind vorhanden, es können aber auch eigene Spiele mitgebracht w
 erden. Termine 14.10.2025, 11.11.2025, 09.12.2025, 13.01.2026, 10.02.2026 G
 erne auch Nachbarn, Freunde und Bekannte ansprechen, die evtl. Interesse ha
 ben. Wir hoffen darauf, möglichst viele Teilnehmer begrüßen zu dürfen. </st
 rong></p><p><strong>Der Vorstand</strong></p>
DTSTAMP:20260424T043602Z
DTSTART:20251014T130000Z
DTEND:20251014T150000Z
SEQUENCE:0
TRANSP:OPAQUE
END:VEVENT
END:VCALENDAR