BEGIN:VCALENDAR
VERSION:2.0
PRODID:-//jEvents 2.0 for Joomla//EN
CALSCALE:GREGORIAN
METHOD:PUBLISH
BEGIN:VEVENT
UID:afb37d0836c52250069e76c85dfc9136
CATEGORIES:Veranstaltung
CREATED:20250829T203454
SUMMARY:„Wi liabet Plattdütsch! Diu äak?“
LOCATION:Espelkamp Bürgerhaus Wilhelm-Kern-Platz 14 32339 Espelkamp
DESCRIPTION:Buntes Programm aus Musik, Theater und Geschichten mit Humor, Heimatgefühl 
 und lebendige Sprache – natürlich „up Platt!“ Wann: Samstag, 25. Oktober 20
 25 Beginn: 19 Uhr (Einlass: 18.30 Uhr) Ort: Bürgerhaus Espelkamp Motto: „Wi
  liabet Plattdütsch – äin lütken Snack up Platt giff us dat Geföihl, teouhi
 us to sin!“ Was erwartet Sie: Ilka Brüggemann (NDR): Charmant, witzig, plat
 tdeutsch Renate Folkers &amp; Gerd Langwald: Musik &amp; Lyrik mit Gefühl „
 Däi lüdgen Kloogschieters“ (Jugendgruppe Oppenwehe): Frische Sketche Elke &
 amp; Burkhard (Kahle Wart-Bühne): Plattdeutscher Sketch mit Humor „Puppen u
 p Platt“: Plattdeutsches Puppenspiel für Jung und Alt Marlies Lindemann: Ge
 schichten von Heimatdichter Hans-Gustav Berner\nBeginn:19: 00Uhr Einlass: 1
 8:30 Uhr\n
X-ALT-DESC;FMTTYPE=text/html:<p>Buntes Programm aus Musik, Theater und Geschichten mit Humor, Heimatgefü
 hl und lebendige Sprache – natürlich „up Platt!“ Wann: Samstag, 25. Oktober
  2025 Beginn: 19 Uhr (Einlass: 18.30 Uhr) Ort: Bürgerhaus Espelkamp Motto: 
 „Wi liabet Plattdütsch – äin lütken Snack up Platt giff us dat Geföihl, teo
 uhius to sin!“ Was erwartet Sie: Ilka Brüggemann (NDR): Charmant, witzig, p
 lattdeutsch Renate Folkers &amp; Gerd Langwald: Musik &amp; Lyrik mit Gefüh
 l „Däi lüdgen Kloogschieters“ (Jugendgruppe Oppenwehe): Frische Sketche Elk
 e &amp; Burkhard (Kahle Wart-Bühne): Plattdeutscher Sketch mit Humor „Puppe
 n up Platt“: Plattdeutsches Puppenspiel für Jung und Alt Marlies Lindemann:
  Geschichten von Heimatdichter Hans-Gustav Berner</p><p>Beginn:19: 00Uhr Ei
 nlass: 18:30 Uhr</p>
DTSTAMP:20260424T062107Z
DTSTART:20251025T170000Z
SEQUENCE:0
TRANSP:OPAQUE
END:VEVENT
END:VCALENDAR