BEGIN:VCALENDAR
VERSION:2.0
PRODID:-//jEvents 2.0 for Joomla//EN
CALSCALE:GREGORIAN
METHOD:PUBLISH
BEGIN:VEVENT
UID:44f15da0d21882c48940b8237c029b1a
CATEGORIES:DEFAULT
CREATED:20250808T180239
SUMMARY:Kleine Fahrradtour des Heimatverein Isenstedt 
LOCATION:Neue Schulstr. 6 32339 Espelkamp
DESCRIPTION:Der Heimatverein Isenstedt lädt ein zur kleinen Fahrradtour am 20.08.25, St
 art 17.00 Uhr an der Grundschule Isenstedt, Startgebühr 2 Euro, Getränke si
 nd frei, Gäste willkommen.\n
X-ALT-DESC;FMTTYPE=text/html:<p>Der Heimatverein Isenstedt lädt ein zur kleinen Fahrradtour am 20.08.25,
  Start 17.00 Uhr an der Grundschule Isenstedt, Startgebühr 2 Euro, Getränke
  sind frei, Gäste willkommen.</p>
DTSTAMP:20260424T000726Z
DTSTART:20250820T150000Z
SEQUENCE:0
TRANSP:OPAQUE
END:VEVENT
END:VCALENDAR