BEGIN:VCALENDAR
VERSION:2.0
PRODID:-//jEvents 2.0 for Joomla//EN
CALSCALE:GREGORIAN
METHOD:PUBLISH
BEGIN:VEVENT
UID:549bd52c3b0eb787f87c882c3d164f38
CATEGORIES:Veranstaltung
CREATED:20250729T204342
SUMMARY:KIMDER SECON Hand BASAR
LOCATION:Kirchstraße 33A 32339 Espelkamp
DESCRIPTION:
DTSTAMP:20260424T060201Z
DTSTART:20250913T110000Z
DTEND:20250913T133000Z
SEQUENCE:0
TRANSP:OPAQUE
END:VEVENT
END:VCALENDAR