BEGIN:VCALENDAR
VERSION:2.0
PRODID:-//jEvents 2.0 for Joomla//EN
CALSCALE:GREGORIAN
METHOD:PUBLISH
BEGIN:VEVENT
UID:3454786cdeddfa6a84a11039879c933b
CATEGORIES:Veranstaltung
CREATED:20250608T180814
SUMMARY:Sozialverband Isenstedt Adventskaffeetrinken
DESCRIPTION:
DTSTAMP:20260424T043727Z
DTSTART:20251129T140000Z
SEQUENCE:0
TRANSP:OPAQUE
END:VEVENT
END:VCALENDAR