BEGIN:VCALENDAR
VERSION:2.0
PRODID:-//jEvents 2.0 for Joomla//EN
CALSCALE:GREGORIAN
METHOD:PUBLISH
BEGIN:VEVENT
UID:f83055131a176dd6d8c4579c373767ff
CATEGORIES:DEFAULT
CREATED:20250608T180622
SUMMARY:Sozialverband Isenstedt Haxen Essen 
DESCRIPTION:
DTSTAMP:20260424T000458Z
DTSTART:20251010T160000Z
SEQUENCE:0
TRANSP:OPAQUE
END:VEVENT
END:VCALENDAR