BEGIN:VCALENDAR
VERSION:2.0
PRODID:-//jEvents 2.0 for Joomla//EN
CALSCALE:GREGORIAN
METHOD:PUBLISH
BEGIN:VEVENT
UID:6f16fe0a9793eee49e5a13db6e02ef9b
CATEGORIES:Veranstaltung
CREATED:20250525T221634
SUMMARY:Country Summer Night 
LOCATION:Hauptstraße 28 32339 Espelkamp
DESCRIPTION:
DTSTAMP:20260424T062032Z
DTSTART;VALUE=DATE:20250802
DTEND;VALUE=DATE:20250803
SEQUENCE:0
TRANSP:OPAQUE
END:VEVENT
END:VCALENDAR