BEGIN:VCALENDAR
VERSION:2.0
PRODID:-//jEvents 2.0 for Joomla//EN
CALSCALE:GREGORIAN
METHOD:PUBLISH
BEGIN:VEVENT
UID:52d2342f08993feb84edf94bf96c6e0e
CATEGORIES:Kultur
CREATED:20250327T184017
SUMMARY:Passionsandacht in die Alte Klus
LOCATION:Kösterstraße 8\, 32339 Espelkamp
DESCRIPTION:<p>Die evangelisch-lutherische Kirchengemeinde Isenstedt-Frotheim und die F
 rotheimer Dorfgemeinschaft laden gemeinsam an allen drei Freitagen vor Karf
 reitag zur Passionsandacht in die Alte Klus in Frotheim ein. Die Passionsan
 dachten finden jeweils um 18 Uhr am 28. März, am 4. April und am 11. April 
 statt.</p>
DTSTAMP:20260421T134903Z
DTSTART:20250328T170000Z
SEQUENCE:0
TRANSP:OPAQUE
END:VEVENT
END:VCALENDAR