BEGIN:VCALENDAR
VERSION:2.0
PRODID:-//jEvents 2.0 for Joomla//EN
CALSCALE:GREGORIAN
METHOD:PUBLISH
BEGIN:VEVENT
UID:634f0cd1893b0d5ff9cc79699bf97dfa
CATEGORIES:Veranstaltung
CREATED:20250323T204216
SUMMARY:Insektenhotel  auf Vordermann bringen. 
LOCATION:Auf der Lage 32331 Espelkamp
DESCRIPTION:<p> <span style="font-size: 11.0pt; line-height: 107%; font-family: 'Calibr
 i',sans-serif; mso-ascii-theme-font: minor-latin; mso-fareast-font-family: 
 Calibri; mso-fareast-theme-font: minor-latin; mso-hansi-theme-font: minor-l
 atin; mso-bidi-font-family: 'Times New Roman'; mso-bidi-theme-font: minor-b
 idi; mso-ansi-language: DE; mso-fareast-language: EN-US; mso-bidi-language:
  AR-SA;">am Donnerstag, 10.04.2025 wollen sich die Grundschüler der ersten 
 Klasse der Grundschule Isenstedt zusammen mit ihrer Lehrerin Frau Finke-Sie
 bers auf dem Weg zum Grillplatz machen um das mannshohe Insektenhotel wiede
 r auf Vordermann zu bringen. Unterstütz werden sie vom NABU Kreisverband Mi
 nden-Lübbecke. Auch die Dorfhandwerker haben ihre Mithilfen zugesagt. </spa
 n></p>
DTSTAMP:20260421T134907Z
DTSTART:20250410T090000Z
SEQUENCE:0
TRANSP:OPAQUE
END:VEVENT
END:VCALENDAR