BEGIN:VCALENDAR
VERSION:2.0
PRODID:-//jEvents 2.0 for Joomla//EN
CALSCALE:GREGORIAN
METHOD:PUBLISH
BEGIN:VEVENT
UID:1a34464e3a3624502836fdc72368c71e
CATEGORIES:Veranstaltung
CREATED:20250216T165938
SUMMARY:Heimatverein Isenstedt Volkstümlicher Abend
DESCRIPTION:<p>Volkstümlicher Abend in der Grundschule Isenstedt Neue Schulstr. 6 32339
  Espelkamp um 19.30 Uhr</p>
DTSTAMP:20260425T134753Z
DTSTART:20250524T173000Z
SEQUENCE:0
TRANSP:OPAQUE
END:VEVENT
END:VCALENDAR