BEGIN:VCALENDAR
VERSION:2.0
PRODID:-//jEvents 2.0 for Joomla//EN
CALSCALE:GREGORIAN
METHOD:PUBLISH
BEGIN:VEVENT
UID:aa8d9d4173a2b66cbdc8172f05a74949
CATEGORIES:Veranstaltung
CREATED:20250216T165208
SUMMARY:Heimatverein Isenstedt Große Radtour
LOCATION:Grundschule Isenstedt Neue Schulstr. 6 32339 Espelkamp
DESCRIPTION:Start ist an der Grundschule Isenstedt Neue Schulstr. 6 32339 Espelkamp um 
 14.00 Uhr\n
X-ALT-DESC;FMTTYPE=text/html:<p>Start ist an der Grundschule Isenstedt Neue Schulstr. 6 32339 Espelkamp 
 um 14.00 Uhr</p>
DTSTAMP:20260425T134818Z
DTSTART:20250518T120000Z
SEQUENCE:0
TRANSP:OPAQUE
END:VEVENT
END:VCALENDAR