BEGIN:VCALENDAR
VERSION:2.0
PRODID:-//jEvents 2.0 for Joomla//EN
CALSCALE:GREGORIAN
METHOD:PUBLISH
BEGIN:VEVENT
UID:c1a111efbec103b8cc431e3bb3bcc2f8
CATEGORIES:Veranstaltung
CREATED:20250126T213050
SUMMARY:Weihnachtsmarkt Nachbesprechung 2024
DESCRIPTION:
DTSTAMP:20260421T134911Z
DTSTART:20250306T183000Z
SEQUENCE:0
TRANSP:OPAQUE
END:VEVENT
END:VCALENDAR