BEGIN:VCALENDAR
VERSION:2.0
PRODID:-//jEvents 2.0 for Joomla//EN
CALSCALE:GREGORIAN
METHOD:PUBLISH
BEGIN:VEVENT
UID:68ddb106322409a81438c9d78886eec8
CATEGORIES:Veranstaltung
CREATED:20250119T214149
SUMMARY:Zweite Weihnachtsmarkt Besprechung 2025 der Dorfgemeinschaft Isenstedt
LOCATION:Kaiser Dorfkrug Neue Schulstraße 10\, 32339 Espelkamp
DESCRIPTION:
DTSTAMP:20260424T043532Z
DTSTART:20251030T183000Z
SEQUENCE:0
TRANSP:OPAQUE
END:VEVENT
END:VCALENDAR