BEGIN:VCALENDAR
VERSION:2.0
PRODID:-//jEvents 2.0 for Joomla//EN
CALSCALE:GREGORIAN
METHOD:PUBLISH
BEGIN:VEVENT
UID:7f87ad3829f989861b906338aa2552c2
CATEGORIES:Veranstaltung
CREATED:20250119T212057
SUMMARY:Tag der Sauberkeit
LOCATION:Feuerwehrgerätehaus Neuen Schulstraße 11 32339 Espelkamp.
DESCRIPTION:Die Tradition der gemeinsamen Aktion „Tag der Sauberkeit“ in den Ortschafte
 n Frotheim und Isenstedt wird in diesem Jahr fortgesetzt und findet am Sams
 tag den 29. März 2025 statt. Die Teilnehmer in Isenstedt treffen sich um 9:
 00 Uhr am Feuerwehrgerätehaus an der Neuen Schulstraße 11. Dort werden die 
 Müllbeutel ausgegeben und die Sammelbezirke abgestimmt. Einen gemeinsamen I
 mbiss und Erfrischungsgetränke gibt es um 12:00 Uhr im Gemeindehaus der Ev.
 -Luth. Kirchengemeinde Isenstedt-Frotheim, Kirchstr. 33 a, 32339 Espelkamp 
 Veranstalter ist in diesem Jahr die Dorfgemeinschaft Isenstedt. Die Dorfgem
 einschaften und die Ortsvorsteher Reinhard Bösch und Jens Heidrich hoffen a
 uf viele Helfer.\n
X-ALT-DESC;FMTTYPE=text/html:<p>Die Tradition der gemeinsamen Aktion „Tag der Sauberkeit“ in den Ortscha
 ften Frotheim und Isenstedt wird in diesem Jahr fortgesetzt und findet am S
 amstag den 29. März 2025 statt. Die Teilnehmer in Isenstedt treffen sich um
  9:00 Uhr am Feuerwehrgerätehaus an der Neuen Schulstraße 11. Dort werden d
 ie Müllbeutel ausgegeben und die Sammelbezirke abgestimmt. Einen gemeinsame
 n Imbiss und Erfrischungsgetränke gibt es um 12:00 Uhr im Gemeindehaus der 
 Ev.-Luth. Kirchengemeinde Isenstedt-Frotheim, Kirchstr. 33 a, 32339 Espelka
 mp Veranstalter ist in diesem Jahr die Dorfgemeinschaft Isenstedt. Die Dorf
 gemeinschaften und die Ortsvorsteher Reinhard Bösch und Jens Heidrich hoffe
 n auf viele Helfer.</p>
DTSTAMP:20260421T134743Z
DTSTART:20250329T080000Z
SEQUENCE:0
TRANSP:OPAQUE
END:VEVENT
END:VCALENDAR